BEGIN:VCALENDAR
VERSION:2.0
PRODID:-//The Oval Tavern Croydon - ECPv4.6.4//NONSGML v1.0//EN
CALSCALE:GREGORIAN
METHOD:PUBLISH
X-WR-CALNAME:The Oval Tavern Croydon
X-ORIGINAL-URL:http://theovaltavern.co.uk
X-WR-CALDESC:Events for The Oval Tavern Croydon
BEGIN:VEVENT
DTSTART;TZID=Europe/London:20210925T180000
DTEND;TZID=Europe/London:20210925T180000
DTSTAMP:20260419T132831
CREATED:20210812T174551Z
LAST-MODIFIED:20210812T174551Z
UID:4928-1632592800-1632592800@theovaltavern.co.uk
SUMMARY:Beats and Eats
DESCRIPTION:The Beats and Eats collective take over the Oval Garden with spoken word and live music from up and coming artists \n
URL:http://theovaltavern.co.uk/event/beats-and-eats-3/
LOCATION:The Oval Tavern\, 131 Oval Road\, Croydon\, CR0 6BR\, United Kingdom
CATEGORIES:Live music and DJs
END:VEVENT
END:VCALENDAR