BEGIN:VCALENDAR
VERSION:2.0
PRODID:-//The Oval Tavern Croydon - ECPv4.6.4//NONSGML v1.0//EN
CALSCALE:GREGORIAN
METHOD:PUBLISH
X-WR-CALNAME:The Oval Tavern Croydon
X-ORIGINAL-URL:http://theovaltavern.co.uk
X-WR-CALDESC:Events for The Oval Tavern Croydon
BEGIN:VEVENT
DTSTART;TZID=Europe/London:20211208T160000
DTEND;TZID=Europe/London:20211208T160000
DTSTAMP:20260419T130621
CREATED:20211022T083354Z
LAST-MODIFIED:20211022T083354Z
UID:5033-1638979200-1638979200@theovaltavern.co.uk
SUMMARY:Belshazzar's Feast
DESCRIPTION:It wouldn’t be Christmas at The Oval without the Feastie Boys! Those attending Paul & Paul’s annual Christmas shows are treated to a mix of seasonal songs and tunes\, plus classical music\, pop\, music-hall and traditional folk. All topped off with audience participation and lashings of wry humour. Paul Sartin (vocals\, oboe\, violin and swanee whistle) and Paul Hutchinson (accordion) together entertain audiences across the UK\, Australia and beyond with their eclectic and eccentric mix of tunes\, songs and chat that sends audiences home with a smile.  \n
URL:http://theovaltavern.co.uk/event/belshazzars-feast-5/
LOCATION:The Oval Tavern\, 131 Oval Road\, Croydon\, CR0 6BR\, United Kingdom
CATEGORIES:Featured,Live Music
END:VEVENT
END:VCALENDAR