BEGIN:VCALENDAR
VERSION:2.0
PRODID:-//The Oval Tavern Croydon - ECPv4.6.4//NONSGML v1.0//EN
CALSCALE:GREGORIAN
METHOD:PUBLISH
X-WR-CALNAME:The Oval Tavern Croydon
X-ORIGINAL-URL:http://theovaltavern.co.uk
X-WR-CALDESC:Events for The Oval Tavern Croydon
BEGIN:VEVENT
DTSTART;TZID=Europe/London:20170414T000000
DTEND;TZID=Europe/London:20170414T000000
DTSTAMP:20260422T110107
CREATED:20170406T112318Z
LAST-MODIFIED:20170406T113205Z
UID:984-1492128000-1492128000@theovaltavern.co.uk
SUMMARY:Chocolate Fest
DESCRIPTION:A celebration of chocolate – we’ll have an additional menu of chocolatey goodness for Easter Weekend!   \n
URL:http://theovaltavern.co.uk/event/chocolate-fest/
LOCATION:The Oval Tavern\, 131 Oval Road\, Croydon\, CR0 6BR\, United Kingdom
CATEGORIES:Featured,Seasonal
END:VEVENT
END:VCALENDAR