BEGIN:VCALENDAR
VERSION:2.0
PRODID:-//The Oval Tavern Croydon - ECPv4.6.4//NONSGML v1.0//EN
CALSCALE:GREGORIAN
METHOD:PUBLISH
X-WR-CALNAME:The Oval Tavern Croydon
X-ORIGINAL-URL:http://theovaltavern.co.uk
X-WR-CALDESC:Events for The Oval Tavern Croydon
BEGIN:VEVENT
DTSTART;TZID=Europe/London:20170924T200000
DTEND;TZID=Europe/London:20170924T200000
DTSTAMP:20260422T092227
CREATED:20170909T091213Z
LAST-MODIFIED:20170909T091213Z
UID:1550-1506283200-1506283200@theovaltavern.co.uk
SUMMARY:DJ Pet Shop Pete
DESCRIPTION:Join our Pete as he takes us on a meandering journey of musical miscellany… \n
URL:http://theovaltavern.co.uk/event/dj-pet-shop-pete-5/
LOCATION:The Oval Tavern\, 131 Oval Road\, Croydon\, CR0 6BR\, United Kingdom
CATEGORIES:DJ
END:VEVENT
END:VCALENDAR