BEGIN:VCALENDAR
VERSION:2.0
PRODID:-//The Oval Tavern Croydon - ECPv4.6.4//NONSGML v1.0//EN
CALSCALE:GREGORIAN
METHOD:PUBLISH
X-WR-CALNAME:The Oval Tavern Croydon
X-ORIGINAL-URL:http://theovaltavern.co.uk
X-WR-CALDESC:Events for The Oval Tavern Croydon
BEGIN:VEVENT
DTSTART;TZID=Europe/London:20210910T200000
DTEND;TZID=Europe/London:20210910T200000
DTSTAMP:20260420T070033
CREATED:20210812T174554Z
LAST-MODIFIED:20210812T174554Z
UID:4917-1631304000-1631304000@theovaltavern.co.uk
SUMMARY:Dr Smutglove
DESCRIPTION:The return of our Smutglove friends with their unique pop punk meyhem! \n
URL:http://theovaltavern.co.uk/event/dr-smutglove-3/
LOCATION:The Oval Tavern\, 131 Oval Road\, Croydon\, CR0 6BR\, United Kingdom
CATEGORIES:Featured,Live Music
END:VEVENT
END:VCALENDAR