BEGIN:VCALENDAR
VERSION:2.0
PRODID:-//The Oval Tavern Croydon - ECPv4.6.4//NONSGML v1.0//EN
CALSCALE:GREGORIAN
METHOD:PUBLISH
X-WR-CALNAME:The Oval Tavern Croydon
X-ORIGINAL-URL:http://theovaltavern.co.uk
X-WR-CALDESC:Events for The Oval Tavern Croydon
BEGIN:VEVENT
DTSTART;TZID=Europe/London:20171223T200000
DTEND;TZID=Europe/London:20171223T200000
DTSTAMP:20260419T133310
CREATED:20171109T173339Z
LAST-MODIFIED:20171109T173339Z
UID:1784-1514059200-1514059200@theovaltavern.co.uk
SUMMARY:Dr. Smutglove's Christmas Party
DESCRIPTION:Dr. Smutglove play pop punk covers very fast and very loud. There is plenty of nonsense and banter\, this evening will inevitably be a massive hilarious festive mess….   \n
URL:http://theovaltavern.co.uk/event/dr-smutgloves-christmas-party/
LOCATION:The Oval Tavern\, 131 Oval Road\, Croydon\, CR0 6BR\, United Kingdom
CATEGORIES:Featured,Live Music
END:VEVENT
END:VCALENDAR