BEGIN:VCALENDAR
VERSION:2.0
PRODID:-//The Oval Tavern Croydon - ECPv4.6.4//NONSGML v1.0//EN
CALSCALE:GREGORIAN
METHOD:PUBLISH
X-WR-CALNAME:The Oval Tavern Croydon
X-ORIGINAL-URL:http://theovaltavern.co.uk
X-WR-CALDESC:Events for The Oval Tavern Croydon
BEGIN:VEVENT
DTSTART;TZID=Europe/London:20171007T110912
DTEND;TZID=Europe/London:20171007T110912
DTSTAMP:20260423T125550
CREATED:20171007T110911Z
LAST-MODIFIED:20171007T110911Z
UID:1620-1507374552-1507374552@theovaltavern.co.uk
SUMMARY:Featured
DESCRIPTION:Check back for upcoming events soon! \n
URL:http://theovaltavern.co.uk/event/featured/
LOCATION:The Oval Tavern\, 131 Oval Road\, Croydon\, CR0 6BR\, United Kingdom
CATEGORIES:Featured
END:VEVENT
END:VCALENDAR