BEGIN:VCALENDAR
VERSION:2.0
PRODID:-//The Oval Tavern Croydon - ECPv4.6.4//NONSGML v1.0//EN
CALSCALE:GREGORIAN
METHOD:PUBLISH
X-WR-CALNAME:The Oval Tavern Croydon
X-ORIGINAL-URL:http://theovaltavern.co.uk
X-WR-CALDESC:Events for The Oval Tavern Croydon
BEGIN:VEVENT
DTSTART;TZID=Europe/London:20171029T130000
DTEND;TZID=Europe/London:20171029T130000
DTSTAMP:20260421T091714
CREATED:20171010T170242Z
LAST-MODIFIED:20171010T170242Z
UID:1652-1509282000-1509282000@theovaltavern.co.uk
SUMMARY:Jazz in the Afternoon
DESCRIPTION:Jazz in the Afternoon with the Andrea Vicari Quartet\, featuring Mornington Locket on sax.   \n
URL:http://theovaltavern.co.uk/event/jazz-in-the-afternoon-64/
LOCATION:The Oval Tavern\, 131 Oval Road\, Croydon\, CR0 6BR\, United Kingdom
CATEGORIES:Jazz
END:VEVENT
END:VCALENDAR