BEGIN:VCALENDAR
VERSION:2.0
PRODID:-//The Oval Tavern Croydon - ECPv4.6.4//NONSGML v1.0//EN
CALSCALE:GREGORIAN
METHOD:PUBLISH
X-WR-CALNAME:The Oval Tavern Croydon
X-ORIGINAL-URL:http://theovaltavern.co.uk
X-WR-CALDESC:Events for The Oval Tavern Croydon
BEGIN:VEVENT
DTSTART;TZID=Europe/London:20210916T200000
DTEND;TZID=Europe/London:20210916T200000
DTSTAMP:20260419T231436
CREATED:20210812T174552Z
LAST-MODIFIED:20210812T174552Z
UID:4922-1631822400-1631822400@theovaltavern.co.uk
SUMMARY:John Otway
DESCRIPTION:John Otway is an English singer-songwriter who has built a sizeable cult audience through extensive touring\, a surreal sense of humour and a self-deprecating underdog persona. Tickets available from www.johnotway.com \n
URL:http://theovaltavern.co.uk/event/john-otway-4/
LOCATION:The Oval Tavern\, 131 Oval Road\, Croydon\, CR0 6BR\, United Kingdom
CATEGORIES:Featured,Live Music
END:VEVENT
END:VCALENDAR