BEGIN:VCALENDAR
VERSION:2.0
PRODID:-//The Oval Tavern Croydon - ECPv4.6.4//NONSGML v1.0//EN
CALSCALE:GREGORIAN
METHOD:PUBLISH
X-WR-CALNAME:The Oval Tavern Croydon
X-ORIGINAL-URL:http://theovaltavern.co.uk
X-WR-CALDESC:Events for The Oval Tavern Croydon
BEGIN:VEVENT
DTSTART;TZID=Europe/London:20170901T200000
DTEND;TZID=Europe/London:20170901T200000
DTSTAMP:20260420T130409
CREATED:20170909T091211Z
LAST-MODIFIED:20170909T091211Z
UID:1524-1504296000-1504296000@theovaltavern.co.uk
SUMMARY:Kingdom of Dust
DESCRIPTION:It’s back! An evening of marvellous acousticness in our beautiful garden – solo sets from Tony Patience\, Carlo Estevez\,The Skys\, and Chris Mays. \n
URL:http://theovaltavern.co.uk/event/kingdom-of-dust-7/
LOCATION:The Oval Tavern\, 131 Oval Road\, Croydon\, CR0 6BR\, United Kingdom
CATEGORIES:Live Music
END:VEVENT
END:VCALENDAR