BEGIN:VCALENDAR
VERSION:2.0
PRODID:-//The Oval Tavern Croydon - ECPv4.6.4//NONSGML v1.0//EN
CALSCALE:GREGORIAN
METHOD:PUBLISH
X-WR-CALNAME:The Oval Tavern Croydon
X-ORIGINAL-URL:http://theovaltavern.co.uk
X-WR-CALDESC:Events for The Oval Tavern Croydon
BEGIN:VEVENT
DTSTART;TZID=Europe/London:20210822T200000
DTEND;TZID=Europe/London:20210822T200000
DTSTAMP:20260422T220023
CREATED:20210812T174556Z
LAST-MODIFIED:20210812T174556Z
UID:4907-1629662400-1629662400@theovaltavern.co.uk
SUMMARY:Sister Suzie
DESCRIPTION:Sister Suzie hailing from the North of Northumberland delivers her shows with an undiluted boisterous charm and she packs a punch in every performance. She and The Right Band take their audiences on an explosive musical journey of blues\, rhythm and blues and raucous rockers paying tribute to Suzie’s favourite influences such as Elmore James\, Irma Thomas\, Willie Mae (Big Mama) Thornton and more. \n
URL:http://theovaltavern.co.uk/event/sister-suzie-3/
LOCATION:The Oval Tavern\, 131 Oval Road\, Croydon\, CR0 6BR\, United Kingdom
CATEGORIES:Blues,Featured
END:VEVENT
END:VCALENDAR