BEGIN:VCALENDAR
VERSION:2.0
PRODID:-//The Oval Tavern Croydon - ECPv4.6.4//NONSGML v1.0//EN
CALSCALE:GREGORIAN
METHOD:PUBLISH
X-WR-CALNAME:The Oval Tavern Croydon
X-ORIGINAL-URL:https://theovaltavern.co.uk
X-WR-CALDESC:Events for The Oval Tavern Croydon
BEGIN:VEVENT
DTSTART;TZID=Europe/London:20231026T200000
DTEND;TZID=Europe/London:20231026T200000
DTSTAMP:20260420T010352
CREATED:20231014T144608Z
LAST-MODIFIED:20231014T144852Z
UID:5823-1698350400-1698350400@theovaltavern.co.uk
SUMMARY:Benji Kirkpatrick
DESCRIPTION:‘Multi instrumental virtuoso’ – BBC Radio 6 Music ‘Multiple talents as a master musician of all things stringed (bouzouki\, mandolin and tenor banjo) and pure\, heartfelt vocals.’ – Folk Radio Benji’s forthcoming album\, entitled ‘In Phase’ explores truth and the human psyche\, and will be released in the early Autumn. Guesting on the album are Benji’s Excess bandmates\, Pete Thomas and newly recruited drummer Joelle Barker as well as Alex Hart\, with whom Benji works in the Seth Lakeman Band. Recorded with producer Pete Brown who also features on slide guitar and pedal steel. Benji Kirkpatrick is a singer\, songwriter and musician and has performed solo for 25 years\, and releasing 4 solo albums to date\, In Phase will be his 5th. He regularly collaborates and tours with Seth Lakeman\, was one-third of acclaimed folk band Faustus and is well-known as the rhythmic driver of multiple award-winning big band\, Bellowhead. Tickets are available here: https://www.wegottickets.com/event/492480  \n
URL:https://theovaltavern.co.uk/event/benji-kirkpatrick/
LOCATION:The Oval Tavern\, 131 Oval Road\, Croydon\, CR0 6BR\, United Kingdom
CATEGORIES:Live Music
END:VEVENT
END:VCALENDAR