BEGIN:VCALENDAR
VERSION:2.0
PRODID:-//The Oval Tavern Croydon - ECPv4.6.4//NONSGML v1.0//EN
CALSCALE:GREGORIAN
METHOD:PUBLISH
X-WR-CALNAME:The Oval Tavern Croydon
X-ORIGINAL-URL:https://theovaltavern.co.uk
X-WR-CALDESC:Events for The Oval Tavern Croydon
BEGIN:VEVENT
DTSTART;TZID=Europe/London:20230423T200000
DTEND;TZID=Europe/London:20230423T200000
DTSTAMP:20260423T205259
CREATED:20230325T111532Z
LAST-MODIFIED:20230325T111532Z
UID:5559-1682280000-1682280000@theovaltavern.co.uk
SUMMARY:Blues at the Oval
DESCRIPTION:The Franck Ash Band Band leader and guitar player for the great Screamin’ Jay Hawkins\, Franck Ash is one of the finest Blues artists at work in Europe today.  \n
URL:https://theovaltavern.co.uk/event/blues-at-the-oval-27/
LOCATION:The Oval Tavern\, 131 Oval Road\, Croydon\, CR0 6BR\, United Kingdom
CATEGORIES:Blues
END:VEVENT
END:VCALENDAR