BEGIN:VCALENDAR
VERSION:2.0
PRODID:-//The Oval Tavern Croydon - ECPv4.6.4//NONSGML v1.0//EN
CALSCALE:GREGORIAN
METHOD:PUBLISH
X-WR-CALNAME:The Oval Tavern Croydon
X-ORIGINAL-URL:https://theovaltavern.co.uk
X-WR-CALDESC:Events for The Oval Tavern Croydon
BEGIN:VEVENT
DTSTART;TZID=Europe/London:20230409T200000
DTEND;TZID=Europe/London:20230409T200000
DTSTAMP:20260422T183632
CREATED:20230325T111533Z
LAST-MODIFIED:20230325T111533Z
UID:5544-1681070400-1681070400@theovaltavern.co.uk
SUMMARY:Blues at the Oval
DESCRIPTION:Gentleman Tim and the Contenders Gentleman Tim and The Contenders band are deeply rooted in early 50’s style Swing\, West Coast Jump Blues and Chicago Blues and are known as one of the most powerful combos on the circuit delivering high energy authentic Rhythm & Blues. Led by inspirational harmonica player and vocalist Tim Corbett they deliver a brand of traditional old school Chicago Blues Shuffles and some Jumpin’ West Coast Swing that’s guaranteed to get you on the floor…  \n
URL:https://theovaltavern.co.uk/event/blues-at-the-oval-29/
LOCATION:The Oval Tavern\, 131 Oval Road\, Croydon\, CR0 6BR\, United Kingdom
CATEGORIES:Blues
END:VEVENT
END:VCALENDAR