BEGIN:VCALENDAR
VERSION:2.0
PRODID:-//The Oval Tavern Croydon - ECPv4.6.4//NONSGML v1.0//EN
CALSCALE:GREGORIAN
METHOD:PUBLISH
X-WR-CALNAME:The Oval Tavern Croydon
X-ORIGINAL-URL:https://theovaltavern.co.uk
X-WR-CALDESC:Events for The Oval Tavern Croydon
BEGIN:VEVENT
DTSTART;TZID=Europe/London:20230326T200000
DTEND;TZID=Europe/London:20230326T200000
DTSTAMP:20260424T143707
CREATED:20230325T111535Z
LAST-MODIFIED:20230325T111535Z
UID:5528-1679860800-1679860800@theovaltavern.co.uk
SUMMARY:Blues at The Oval
DESCRIPTION:Katie Bradley Katie tours the world with the best musicians and has a busy schedule writing\, recording and playing festivals worldwide is Katie’s speciality. Katie’s stage presence\, talent and luminosity wins her new followers wherever she plays. Katie extends her musicality\, rhythm and love for rich melody in the Blues by playing Blues harp.  \n
URL:https://theovaltavern.co.uk/event/blues-at-the-oval-31/
LOCATION:The Oval Tavern\, 131 Oval Road\, Croydon\, CR0 6BR\, United Kingdom
CATEGORIES:Blues
END:VEVENT
END:VCALENDAR