BEGIN:VCALENDAR
VERSION:2.0
PRODID:-//The Oval Tavern Croydon - ECPv4.6.4//NONSGML v1.0//EN
CALSCALE:GREGORIAN
METHOD:PUBLISH
X-WR-CALNAME:The Oval Tavern Croydon
X-ORIGINAL-URL:https://theovaltavern.co.uk
X-WR-CALDESC:Events for The Oval Tavern Croydon
BEGIN:VEVENT
DTSTART;TZID=Europe/London:20230421T200000
DTEND;TZID=Europe/London:20230421T200000
DTSTAMP:20260423T160637
CREATED:20230325T111532Z
LAST-MODIFIED:20230325T111532Z
UID:5556-1682107200-1682107200@theovaltavern.co.uk
SUMMARY:Dust Me Down Blues Band
DESCRIPTION:Dust me down blues band is a well-known group in London’s  Blues scene with a unique mix  of Chicago Blues\, 70s funk and old gospel tunes!  \n
URL:https://theovaltavern.co.uk/event/dust-me-down-blues-band/
LOCATION:The Oval Tavern\, 131 Oval Road\, Croydon\, CR0 6BR\, United Kingdom
CATEGORIES:Live Music
END:VEVENT
END:VCALENDAR