BEGIN:VCALENDAR
VERSION:2.0
PRODID:-//The Oval Tavern Croydon - ECPv4.6.4//NONSGML v1.0//EN
CALSCALE:GREGORIAN
METHOD:PUBLISH
X-WR-CALNAME:The Oval Tavern Croydon
X-ORIGINAL-URL:https://theovaltavern.co.uk
X-WR-CALDESC:Events for The Oval Tavern Croydon
BEGIN:VEVENT
DTSTART;TZID=Europe/London:20230408T200000
DTEND;TZID=Europe/London:20230408T200000
DTSTAMP:20260422T183047
CREATED:20230325T111534Z
LAST-MODIFIED:20230325T111534Z
UID:5542-1680984000-1680984000@theovaltavern.co.uk
SUMMARY:Hipster Ray
DESCRIPTION:Unlike many ‘good time’ bands\, the Hipsters combination of ska\, punk and a whole lot more is underpinned by the kind of genuinely good songwriting that means the tunes will linger\, long after the hangover has subsided\, and your dancing feet have stopped aching.”  \n
URL:https://theovaltavern.co.uk/event/hipster-ray/
LOCATION:The Oval Tavern\, 131 Oval Road\, Croydon\, CR0 6BR\, United Kingdom
CATEGORIES:Live Music
END:VEVENT
END:VCALENDAR