BEGIN:VCALENDAR
VERSION:2.0
PRODID:-//The Oval Tavern Croydon - ECPv4.6.4//NONSGML v1.0//EN
CALSCALE:GREGORIAN
METHOD:PUBLISH
X-WR-CALNAME:The Oval Tavern Croydon
X-ORIGINAL-URL:https://theovaltavern.co.uk
X-WR-CALDESC:Events for The Oval Tavern Croydon
BEGIN:VEVENT
DTSTART;TZID=Europe/London:20230604T130000
DTEND;TZID=Europe/London:20230604T130000
DTSTAMP:20260422T101433
CREATED:20230530T075345Z
LAST-MODIFIED:20230530T075345Z
UID:5626-1685883600-1685883600@theovaltavern.co.uk
SUMMARY:Jazz in the Afternoon
DESCRIPTION:The Tony Woods Project The Tony Woods Project occupies its own place in the UK scene – drawing inspiration from the folk music of Britain and elsewhere as well as from rock and classical worlds\, always with an emphasis on melodic narrative in the compositions and improvisations alike.  \n
URL:https://theovaltavern.co.uk/event/jazz-in-the-afternoon-239/
LOCATION:The Oval Tavern\, 131 Oval Road\, Croydon\, CR0 6BR\, United Kingdom
CATEGORIES:Jazz
END:VEVENT
END:VCALENDAR