BEGIN:VCALENDAR
VERSION:2.0
PRODID:-//The Oval Tavern Croydon - ECPv4.6.4//NONSGML v1.0//EN
CALSCALE:GREGORIAN
METHOD:PUBLISH
X-WR-CALNAME:The Oval Tavern Croydon
X-ORIGINAL-URL:https://theovaltavern.co.uk
X-WR-CALDESC:Events for The Oval Tavern Croydon
BEGIN:VEVENT
DTSTART;TZID=Europe/London:20230903T130000
DTEND;TZID=Europe/London:20230903T130000
DTSTAMP:20260422T113920
CREATED:20230816T085411Z
LAST-MODIFIED:20230816T085411Z
UID:5725-1693746000-1693746000@theovaltavern.co.uk
SUMMARY:Jazz in the Afternoon
DESCRIPTION:Vasilis Xenopoulos “One of the most fiery young saxophonists around blazes a path through the hard bop repertoire” (The Times) ????  \n
URL:https://theovaltavern.co.uk/event/jazz-in-the-afternoon-243/
LOCATION:The Oval Tavern\, 131 Oval Road\, Croydon\, CR0 6BR\, United Kingdom
CATEGORIES:Jazz
END:VEVENT
END:VCALENDAR