BEGIN:VCALENDAR
VERSION:2.0
PRODID:-//The Oval Tavern Croydon - ECPv4.6.4//NONSGML v1.0//EN
CALSCALE:GREGORIAN
METHOD:PUBLISH
X-WR-CALNAME:The Oval Tavern Croydon
X-ORIGINAL-URL:https://theovaltavern.co.uk
X-WR-CALDESC:Events for The Oval Tavern Croydon
BEGIN:VEVENT
DTSTART;TZID=Europe/London:20230401T200000
DTEND;TZID=Europe/London:20230401T200000
DTSTAMP:20260423T063525
CREATED:20230325T111534Z
LAST-MODIFIED:20230325T111534Z
UID:5535-1680379200-1680379200@theovaltavern.co.uk
SUMMARY:Manos Puestas
DESCRIPTION:Re-interpreting jazz standards in a different style\, Jon Lewis and Matt Sullivan play guitar with a Flamenco technique – that’s right\, not a plectrum to be seen! This brings a unique feel to the tunes\, particularly those of Django Reinhardt\, Charlie Parker and Thelonious Monk. In 2014\, Matt Watson of Oxford based Cuban big-band Ran Kan Kan joined them on double bass and vocals\, enhancing the Latin feel and leaving lots of room for improvisation and up-beat danceable rhythms.  \n
URL:https://theovaltavern.co.uk/event/manos-puestas-2/
LOCATION:The Oval Tavern\, 131 Oval Road\, Croydon\, CR0 6BR\, United Kingdom
CATEGORIES:Live Music
END:VEVENT
END:VCALENDAR