BEGIN:VCALENDAR
VERSION:2.0
PRODID:-//The Oval Tavern Croydon - ECPv4.6.4//NONSGML v1.0//EN
CALSCALE:GREGORIAN
METHOD:PUBLISH
X-WR-CALNAME:The Oval Tavern Croydon
X-ORIGINAL-URL:https://theovaltavern.co.uk
X-WR-CALDESC:Events for The Oval Tavern Croydon
BEGIN:VEVENT
DTSTART;TZID=Europe/London:20230211T200000
DTEND;TZID=Europe/London:20230211T200000
DTSTAMP:20260422T225103
CREATED:20230117T174853Z
LAST-MODIFIED:20230117T174853Z
UID:5442-1676145600-1676145600@theovaltavern.co.uk
SUMMARY:Mark Hummel
DESCRIPTION:Grammy Award Nominee and Winner of two Blues Music Awards\, Mark Hummel is considered one of the premier blues harmonica players of his generation.  \n
URL:https://theovaltavern.co.uk/event/mark-hummel/
LOCATION:The Oval Tavern\, 131 Oval Road\, Croydon\, CR0 6BR\, United Kingdom
CATEGORIES:Blues
END:VEVENT
END:VCALENDAR