BEGIN:VCALENDAR
VERSION:2.0
PRODID:-//The Oval Tavern Croydon - ECPv4.6.4//NONSGML v1.0//EN
CALSCALE:GREGORIAN
METHOD:PUBLISH
X-WR-CALNAME:The Oval Tavern Croydon
X-ORIGINAL-URL:https://theovaltavern.co.uk
X-WR-CALDESC:Events for The Oval Tavern Croydon
BEGIN:VEVENT
DTSTART;TZID=Europe/London:20230217T200000
DTEND;TZID=Europe/London:20230217T200000
DTSTAMP:20260423T074321
CREATED:20230117T174853Z
LAST-MODIFIED:20230117T174853Z
UID:5448-1676664000-1676664000@theovaltavern.co.uk
SUMMARY:Oval Sessions
DESCRIPTION:Finest quality local grassroots musicianship. Tonight we have The Tom Johnson Band\, with guests Mal MacWatt plus Our Dave and Our Tidy!  \n
URL:https://theovaltavern.co.uk/event/oval-sessions-3/
LOCATION:The Oval Tavern\, 131 Oval Road\, Croydon\, CR0 6BR\, United Kingdom
CATEGORIES:Live Music
END:VEVENT
END:VCALENDAR