BEGIN:VCALENDAR
VERSION:2.0
PRODID:-//The Oval Tavern Croydon - ECPv4.6.4//NONSGML v1.0//EN
CALSCALE:GREGORIAN
METHOD:PUBLISH
X-WR-CALNAME:The Oval Tavern Croydon
X-ORIGINAL-URL:https://theovaltavern.co.uk
X-WR-CALDESC:Events for The Oval Tavern Croydon
BEGIN:VEVENT
DTSTART;TZID=Europe/London:20230403T200000
DTEND;TZID=Europe/London:20230403T200000
DTSTAMP:20260423T011542
CREATED:20230325T111534Z
LAST-MODIFIED:20230325T111534Z
UID:5538-1680552000-1680552000@theovaltavern.co.uk
SUMMARY:The Big Beer Band
DESCRIPTION:Big Band sound from Croydon’s oldest boy band.  \n
URL:https://theovaltavern.co.uk/event/the-big-beer-band-12/
LOCATION:The Oval Tavern\, 131 Oval Road\, Croydon\, CR0 6BR\, United Kingdom
CATEGORIES:Jazz
END:VEVENT
END:VCALENDAR