BEGIN:VCALENDAR
VERSION:2.0
PRODID:-//The Oval Tavern Croydon - ECPv4.6.4//NONSGML v1.0//EN
CALSCALE:GREGORIAN
METHOD:PUBLISH
X-WR-CALNAME:The Oval Tavern Croydon
X-ORIGINAL-URL:https://theovaltavern.co.uk
X-WR-CALDESC:Events for The Oval Tavern Croydon
BEGIN:VEVENT
DTSTART;TZID=Europe/London:20230413T200000
DTEND;TZID=Europe/London:20230413T200000
DTSTAMP:20260423T005510
CREATED:20230325T111533Z
LAST-MODIFIED:20230325T111533Z
UID:5548-1681416000-1681416000@theovaltavern.co.uk
SUMMARY:Tomorrow's Warriors presents...
DESCRIPTION:Oreglo Exciting young Jazz collective\, with a range of classical instruments from tubas to keys.  Tomorrows Warriors is a pioneering talent development organisation\, creative producer\, learning provider and charity specialising in jazz  \n
URL:https://theovaltavern.co.uk/event/tomorrows-warriors-presents/
LOCATION:The Oval Tavern\, 131 Oval Road\, Croydon\, CR0 6BR\, United Kingdom
CATEGORIES:Jazz
END:VEVENT
END:VCALENDAR